BEGIN:VCALENDAR
VERSION:2.0
PRODID:-//Universal Financial Consultants IMO - ECPv6.15.20//NONSGML v1.0//EN
CALSCALE:GREGORIAN
METHOD:PUBLISH
X-ORIGINAL-URL:https://simplicityufc.com
X-WR-CALDESC:Events for Universal Financial Consultants IMO
REFRESH-INTERVAL;VALUE=DURATION:PT1H
X-Robots-Tag:noindex
X-PUBLISHED-TTL:PT1H
BEGIN:VTIMEZONE
TZID:America/New_York
BEGIN:DAYLIGHT
TZOFFSETFROM:-0500
TZOFFSETTO:-0400
TZNAME:EDT
DTSTART:20240310T070000
END:DAYLIGHT
BEGIN:STANDARD
TZOFFSETFROM:-0400
TZOFFSETTO:-0500
TZNAME:EST
DTSTART:20241103T060000
END:STANDARD
BEGIN:DAYLIGHT
TZOFFSETFROM:-0500
TZOFFSETTO:-0400
TZNAME:EDT
DTSTART:20250309T070000
END:DAYLIGHT
BEGIN:STANDARD
TZOFFSETFROM:-0400
TZOFFSETTO:-0500
TZNAME:EST
DTSTART:20251102T060000
END:STANDARD
BEGIN:DAYLIGHT
TZOFFSETFROM:-0500
TZOFFSETTO:-0400
TZNAME:EDT
DTSTART:20260308T070000
END:DAYLIGHT
BEGIN:STANDARD
TZOFFSETFROM:-0400
TZOFFSETTO:-0500
TZNAME:EST
DTSTART:20261101T060000
END:STANDARD
END:VTIMEZONE
BEGIN:VEVENT
DTSTART;TZID=America/New_York:20251203T130000
DTEND;TZID=America/New_York:20251203T140000
DTSTAMP:20260423T120754
CREATED:20240531T190935Z
LAST-MODIFIED:20250901T225241Z
UID:10066-1764766800-1764770400@simplicityufc.com
SUMMARY:UFC Monthly Seminar Masterclass
DESCRIPTION:First Wednesday of Every Month \nRegister once\, and event should appear as recurring on your calendar. \nRegister Here: https://ufc-bz.zoom.us/webinar/register/WN_ymlvfpkrROuhafka4u5P7A
URL:https://simplicityufc.com/event/ufc-monthly-seminar-masterclass-19/
END:VEVENT
BEGIN:VEVENT
DTSTART;TZID=America/New_York:20251209T110000
DTEND;TZID=America/New_York:20251209T120000
DTSTAMP:20260423T120754
CREATED:20240528T183831Z
LAST-MODIFIED:20251208T200614Z
UID:9941-1765278000-1765281600@simplicityufc.com
SUMMARY:UFC Bi-Weekly Success Session\, Webinar Series
DESCRIPTION:Register: https://ufc-bz.zoom.us/webinar/register/WN_kKYpD66sRlCr7NMAiQLceQ
URL:https://simplicityufc.com/event/ufc-bi-weekly-success-session-webinar-series-40/
END:VEVENT
BEGIN:VEVENT
DTSTART;TZID=America/New_York:20251216T130000
DTEND;TZID=America/New_York:20251216T140000
DTSTAMP:20260423T120754
CREATED:20241219T213838Z
LAST-MODIFIED:20251215T212030Z
UID:10867-1765890000-1765893600@simplicityufc.com
SUMMARY:National Life Group: Secure the Future of a Business
DESCRIPTION:Click Here to Register
URL:https://simplicityufc.com/event/national-life-group-secure-the-future-of-a-business/
END:VEVENT
BEGIN:VEVENT
DTSTART;TZID=America/New_York:20251223T110000
DTEND;TZID=America/New_York:20251223T120000
DTSTAMP:20260423T120754
CREATED:20240528T183831Z
LAST-MODIFIED:20251222T184720Z
UID:9942-1766487600-1766491200@simplicityufc.com
SUMMARY:UFC Bi-Weekly Success Session\, Webinar Series
DESCRIPTION:Register: https://ufc-bz.zoom.us/webinar/register/WN_kKYpD66sRlCr7NMAiQLceQ
URL:https://simplicityufc.com/event/ufc-bi-weekly-success-session-webinar-series-41/
END:VEVENT
BEGIN:VEVENT
DTSTART;TZID=America/New_York:20251231T130000
DTEND;TZID=America/New_York:20251231T140000
DTSTAMP:20260423T120754
CREATED:20240528T183831Z
LAST-MODIFIED:20250724T162725Z
UID:9943-1767186000-1767189600@simplicityufc.com
SUMMARY:LIVE Advanced Wealth Webinar
DESCRIPTION:HOST: Vincent Munno\nWHEN: Every Last Monday of the Month @ 1pmET\nhttps://ufc-bz.zoom.us/webinar/register/WN_sbCX0QzkTV202kX1B_5o_g
URL:https://simplicityufc.com/event/live-advanced-wealth-webinar-20/
END:VEVENT
END:VCALENDAR