BEGIN:VCALENDAR
VERSION:2.0
PRODID:-//Universal Financial Consultants IMO - ECPv6.15.20//NONSGML v1.0//EN
CALSCALE:GREGORIAN
METHOD:PUBLISH
X-WR-CALNAME:Universal Financial Consultants IMO
X-ORIGINAL-URL:https://simplicityufc.com
X-WR-CALDESC:Events for Universal Financial Consultants IMO
REFRESH-INTERVAL;VALUE=DURATION:PT1H
X-Robots-Tag:noindex
X-PUBLISHED-TTL:PT1H
BEGIN:VTIMEZONE
TZID:America/New_York
BEGIN:DAYLIGHT
TZOFFSETFROM:-0500
TZOFFSETTO:-0400
TZNAME:EDT
DTSTART:20220313T070000
END:DAYLIGHT
BEGIN:STANDARD
TZOFFSETFROM:-0400
TZOFFSETTO:-0500
TZNAME:EST
DTSTART:20221106T060000
END:STANDARD
BEGIN:DAYLIGHT
TZOFFSETFROM:-0500
TZOFFSETTO:-0400
TZNAME:EDT
DTSTART:20230312T070000
END:DAYLIGHT
BEGIN:STANDARD
TZOFFSETFROM:-0400
TZOFFSETTO:-0500
TZNAME:EST
DTSTART:20231105T060000
END:STANDARD
BEGIN:DAYLIGHT
TZOFFSETFROM:-0500
TZOFFSETTO:-0400
TZNAME:EDT
DTSTART:20240310T070000
END:DAYLIGHT
BEGIN:STANDARD
TZOFFSETFROM:-0400
TZOFFSETTO:-0500
TZNAME:EST
DTSTART:20241103T060000
END:STANDARD
END:VTIMEZONE
BEGIN:VEVENT
DTSTART;TZID=America/New_York:20231003T110000
DTEND;TZID=America/New_York:20231003T120000
DTSTAMP:20260422T111534
CREATED:20230810T134344Z
LAST-MODIFIED:20230831T134101Z
UID:9709-1696330800-1696334400@simplicityufc.com
SUMMARY:BI-WEEKLY SUCCESS SESSIONS WITH STEVE GILBERT
DESCRIPTION:
URL:https://simplicityufc.com/event/bi-weekly-success-sessions-with-steve-gilbert-11/
CATEGORIES:UFC Webinars
ATTACH;FMTTYPE=image/png:https://simplicityufc.com/wp-content/uploads/2023/02/giftb2-1.png
END:VEVENT
BEGIN:VEVENT
DTSTART;TZID=America/New_York:20231017T110000
DTEND;TZID=America/New_York:20231017T120000
DTSTAMP:20260422T111534
CREATED:20230810T134424Z
LAST-MODIFIED:20230831T134058Z
UID:9711-1697540400-1697544000@simplicityufc.com
SUMMARY:BI-WEEKLY SUCCESS SESSIONS WITH STEVE GILBERT
DESCRIPTION:
URL:https://simplicityufc.com/event/bi-weekly-success-sessions-with-steve-gilbert-12/
CATEGORIES:UFC Webinars
ATTACH;FMTTYPE=image/png:https://simplicityufc.com/wp-content/uploads/2023/02/giftb2-1.png
END:VEVENT
BEGIN:VEVENT
DTSTART;TZID=America/New_York:20231024T130000
DTEND;TZID=America/New_York:20231024T140000
DTSTAMP:20260422T111534
CREATED:20231011T151744Z
LAST-MODIFIED:20231011T152015Z
UID:9774-1698152400-1698156000@simplicityufc.com
SUMMARY:LIVE PremiumLife™ Match Case Study Webinar
DESCRIPTION:Join us and Nathan Medin\, the creator of PremiumLife™ Match\,\nto learn how and why this no-collateral premium finance design\nis making HUGE waves with HENRY clients! \n– Reduced net worth requirements \n– No out of pocket collateral \n– No ELO riders \n– No loan pooling \n– Double income potential \n– Double coverage \n  \nJoin to walk through a REAL case to see how it was positioned and sold! \n– The client profile / lead source \n– Why the program makes sense for them \n– How they positioned it \n– Any obstacle they faced during the sales cycle \n– The difference it made for the advisor
URL:https://simplicityufc.com/event/live-premiumlife-match-case-study-webinar/
ATTACH;FMTTYPE=image/png:https://simplicityufc.com/wp-content/uploads/2023/10/CASESTUDY.png
END:VEVENT
BEGIN:VEVENT
DTSTART;TZID=America/New_York:20231031T110000
DTEND;TZID=America/New_York:20231031T120000
DTSTAMP:20260422T111534
CREATED:20230810T134457Z
LAST-MODIFIED:20230831T134056Z
UID:9713-1698750000-1698753600@simplicityufc.com
SUMMARY:BI-WEEKLY SUCCESS SESSIONS WITH STEVE GILBERT
DESCRIPTION:
URL:https://simplicityufc.com/event/bi-weekly-success-sessions-with-steve-gilbert-13/
CATEGORIES:UFC Webinars
ATTACH;FMTTYPE=image/png:https://simplicityufc.com/wp-content/uploads/2023/02/giftb2-1.png
END:VEVENT
END:VCALENDAR