BEGIN:VCALENDAR
VERSION:2.0
PRODID:-//Universal Financial Consultants IMO - ECPv6.15.16//NONSGML v1.0//EN
CALSCALE:GREGORIAN
METHOD:PUBLISH
X-ORIGINAL-URL:https://simplicityufc.com
X-WR-CALDESC:Events for Universal Financial Consultants IMO
REFRESH-INTERVAL;VALUE=DURATION:PT1H
X-Robots-Tag:noindex
X-PUBLISHED-TTL:PT1H
BEGIN:VTIMEZONE
TZID:America/New_York
BEGIN:DAYLIGHT
TZOFFSETFROM:-0500
TZOFFSETTO:-0400
TZNAME:EDT
DTSTART:20220313T070000
END:DAYLIGHT
BEGIN:STANDARD
TZOFFSETFROM:-0400
TZOFFSETTO:-0500
TZNAME:EST
DTSTART:20221106T060000
END:STANDARD
BEGIN:DAYLIGHT
TZOFFSETFROM:-0500
TZOFFSETTO:-0400
TZNAME:EDT
DTSTART:20230312T070000
END:DAYLIGHT
BEGIN:STANDARD
TZOFFSETFROM:-0400
TZOFFSETTO:-0500
TZNAME:EST
DTSTART:20231105T060000
END:STANDARD
BEGIN:DAYLIGHT
TZOFFSETFROM:-0500
TZOFFSETTO:-0400
TZNAME:EDT
DTSTART:20240310T070000
END:DAYLIGHT
BEGIN:STANDARD
TZOFFSETFROM:-0400
TZOFFSETTO:-0500
TZNAME:EST
DTSTART:20241103T060000
END:STANDARD
END:VTIMEZONE
BEGIN:VEVENT
DTSTART;TZID=America/New_York:20230803T110000
DTEND;TZID=America/New_York:20230803T120000
DTSTAMP:20260420T123435
CREATED:20230803T125225Z
LAST-MODIFIED:20230803T125355Z
UID:9620-1691060400-1691064000@simplicityufc.com
SUMMARY:Webinar: AI Marketing Tool for Financial Advisors
DESCRIPTION:Instantly convert client questions into content goldmines\nMake your marketing materials unique with AI-driven image generation\nBoost marketing effectiveness through personalization and smart strategies:\nSeamlessly adapt your style to match your audience (casual\, formal\, fun\, etc.)\nUtilize AI to generate headings and Call-to-Actions (CTAs) that drive leads
URL:https://simplicityufc.com/event/webinar-ai-marketing-tool-for-financial-advisors/
CATEGORIES:UFC Webinars
ATTACH;FMTTYPE=image/png:https://simplicityufc.com/wp-content/uploads/2023/08/AI2.png
END:VEVENT
BEGIN:VEVENT
DTSTART;TZID=America/New_York:20230808T110000
DTEND;TZID=America/New_York:20230808T120000
DTSTAMP:20260420T123435
CREATED:20230526T174320Z
LAST-MODIFIED:20230613T141737Z
UID:9597-1691492400-1691496000@simplicityufc.com
SUMMARY:Bi-Weekly Success Sessions with Steve Gilbert
DESCRIPTION:
URL:https://simplicityufc.com/event/bi-weekly-success-sessions-with-steve-gilbert-7/
ATTACH;FMTTYPE=image/png:https://simplicityufc.com/wp-content/uploads/2023/02/giftb2-1.png
END:VEVENT
BEGIN:VEVENT
DTSTART;TZID=America/New_York:20230809T130000
DTEND;TZID=America/New_York:20230809T140000
DTSTAMP:20260420T123435
CREATED:20230613T141914Z
LAST-MODIFIED:20230613T141914Z
UID:9604-1691586000-1691589600@simplicityufc.com
SUMMARY:Seminar Masterclass
DESCRIPTION:
URL:https://simplicityufc.com/event/seminar-masterclass-6/
ATTACH;FMTTYPE=image/jpeg:https://simplicityufc.com/wp-content/uploads/2023/05/mcbanwebinar.jpg
END:VEVENT
BEGIN:VEVENT
DTSTART;TZID=America/New_York:20230822T110000
DTEND;TZID=America/New_York:20230822T120000
DTSTAMP:20260420T123435
CREATED:20230803T130152Z
LAST-MODIFIED:20230803T130152Z
UID:9627-1692702000-1692705600@simplicityufc.com
SUMMARY:Bi-Weekly Success Sessions with Steve Gilbert
DESCRIPTION:
URL:https://simplicityufc.com/event/bi-weekly-success-sessions-with-steve-gilbert-8/
ATTACH;FMTTYPE=image/png:https://simplicityufc.com/wp-content/uploads/2023/02/giftb2-1.png
END:VEVENT
BEGIN:VEVENT
DTSTART;TZID=America/New_York:20230824T130000
DTEND;TZID=America/New_York:20230824T140000
DTSTAMP:20260420T123435
CREATED:20230810T133702Z
LAST-MODIFIED:20230810T133729Z
UID:9701-1692882000-1692885600@simplicityufc.com
SUMMARY:LIVE PremiumLife™ Match Webinar
DESCRIPTION:
URL:https://simplicityufc.com/event/live-premiumlife-match-webinar/
CATEGORIES:UFC Webinars
ATTACH;FMTTYPE=image/jpeg:https://simplicityufc.com/wp-content/uploads/2023/08/nathan.jpg
END:VEVENT
END:VCALENDAR