BEGIN:VCALENDAR
VERSION:2.0
PRODID:-//Universal Financial Consultants IMO - ECPv6.15.16//NONSGML v1.0//EN
CALSCALE:GREGORIAN
METHOD:PUBLISH
X-ORIGINAL-URL:https://simplicityufc.com
X-WR-CALDESC:Events for Universal Financial Consultants IMO
REFRESH-INTERVAL;VALUE=DURATION:PT1H
X-Robots-Tag:noindex
X-PUBLISHED-TTL:PT1H
BEGIN:VTIMEZONE
TZID:America/New_York
BEGIN:DAYLIGHT
TZOFFSETFROM:-0500
TZOFFSETTO:-0400
TZNAME:EDT
DTSTART:20240310T070000
END:DAYLIGHT
BEGIN:STANDARD
TZOFFSETFROM:-0400
TZOFFSETTO:-0500
TZNAME:EST
DTSTART:20241103T060000
END:STANDARD
BEGIN:DAYLIGHT
TZOFFSETFROM:-0500
TZOFFSETTO:-0400
TZNAME:EDT
DTSTART:20250309T070000
END:DAYLIGHT
BEGIN:STANDARD
TZOFFSETFROM:-0400
TZOFFSETTO:-0500
TZNAME:EST
DTSTART:20251102T060000
END:STANDARD
BEGIN:DAYLIGHT
TZOFFSETFROM:-0500
TZOFFSETTO:-0400
TZNAME:EDT
DTSTART:20260308T070000
END:DAYLIGHT
BEGIN:STANDARD
TZOFFSETFROM:-0400
TZOFFSETTO:-0500
TZNAME:EST
DTSTART:20261101T060000
END:STANDARD
END:VTIMEZONE
BEGIN:VEVENT
DTSTART;TZID=America/New_York:20250717T120000
DTEND;TZID=America/New_York:20250717T130000
DTSTAMP:20260420T083650
CREATED:20250709T140714Z
LAST-MODIFIED:20250717T150839Z
UID:12904-1752753600-1752757200@simplicityufc.com
SUMMARY:Athene - US Economic Update with BNP Paribas
DESCRIPTION:US Economic Update with BNP Paribas\n\n\n\n\n\nThursday\, July 17 | 11:00 a.m. CT\n\n\n\n\n\n\n\n\n\n\n\n\n\n\n\n\n\n\n\n\n\n\n\n\n\n\nRegister now
URL:https://simplicityufc.com/event/athene-us-economic-update-with-bnp-paribas/
END:VEVENT
BEGIN:VEVENT
DTSTART;TZID=America/New_York:20250717T140000
DTEND;TZID=America/New_York:20250717T141500
DTSTAMP:20260420T083650
CREATED:20250708T135218Z
LAST-MODIFIED:20250717T150839Z
UID:12899-1752760800-1752761700@simplicityufc.com
SUMMARY:Securian - How much is your client's business worth?
DESCRIPTION:Gain a competitive advantage with business valuation\n\n\nTurn business valuation into your competitive advantage. Deliver comprehensive financial advice to business-owner clients\, differentiate your practice\, and offer new opportunities to grow your business. \nThis month\, we welcome special guest Kevin Saad\, Senior Director of Customer Success at BizEquity®\, to discuss how offering business valuations can open the door to business-owner clients. \n\n\n\n\n\n\n\n\n\n\n\n\n\n\n\n\n\n\n\n\n\n\n\n\n\n\n\n\n\n\n\nComputer icon\n\n\n\n\n\n\nUpcoming webinar\n\n\nWhat is your client’s business worth?\n\n\nDATE: Thursday\, July 17\, 2025TIME: 2 p.m. ET; 1 p.m.\, CT; noon MT; 11 a.m. PTSPEAKERS: Stephanie Beckwith\, J.D.\, CLU®\, RICP®\, Advanced Sales Counsel\, Securian Financial\, and Kevin Saad\, Sr. Director of Client Success\, BizEquity\n\n\n\n\n\n\nRegister now
URL:https://simplicityufc.com/event/securian-how-much-is-your-clients-business-worth/
END:VEVENT
END:VCALENDAR