BEGIN:VCALENDAR
VERSION:2.0
PRODID:-//Universal Financial Consultants IMO - ECPv6.15.20//NONSGML v1.0//EN
CALSCALE:GREGORIAN
METHOD:PUBLISH
X-ORIGINAL-URL:https://simplicityufc.com
X-WR-CALDESC:Events for Universal Financial Consultants IMO
REFRESH-INTERVAL;VALUE=DURATION:PT1H
X-Robots-Tag:noindex
X-PUBLISHED-TTL:PT1H
BEGIN:VTIMEZONE
TZID:America/New_York
BEGIN:DAYLIGHT
TZOFFSETFROM:-0500
TZOFFSETTO:-0400
TZNAME:EDT
DTSTART:20240310T070000
END:DAYLIGHT
BEGIN:STANDARD
TZOFFSETFROM:-0400
TZOFFSETTO:-0500
TZNAME:EST
DTSTART:20241103T060000
END:STANDARD
BEGIN:DAYLIGHT
TZOFFSETFROM:-0500
TZOFFSETTO:-0400
TZNAME:EDT
DTSTART:20250309T070000
END:DAYLIGHT
BEGIN:STANDARD
TZOFFSETFROM:-0400
TZOFFSETTO:-0500
TZNAME:EST
DTSTART:20251102T060000
END:STANDARD
BEGIN:DAYLIGHT
TZOFFSETFROM:-0500
TZOFFSETTO:-0400
TZNAME:EDT
DTSTART:20260308T070000
END:DAYLIGHT
BEGIN:STANDARD
TZOFFSETFROM:-0400
TZOFFSETTO:-0500
TZNAME:EST
DTSTART:20261101T060000
END:STANDARD
END:VTIMEZONE
BEGIN:VEVENT
DTSTART;TZID=America/New_York:20250624T110000
DTEND;TZID=America/New_York:20250624T120000
DTSTAMP:20260422T111752
CREATED:20240528T183805Z
LAST-MODIFIED:20250624T115559Z
UID:9923-1750762800-1750766400@simplicityufc.com
SUMMARY:UFC Bi-Weekly Success Session\, Webinar Series
DESCRIPTION:Register: https://ufc-bz.zoom.us/webinar/register/WN_kKYpD66sRlCr7NMAiQLceQ
URL:https://simplicityufc.com/event/ufc-bi-weekly-success-session-webinar-series-28/
END:VEVENT
BEGIN:VEVENT
DTSTART;TZID=America/New_York:20250624T130000
DTEND;TZID=America/New_York:20250624T140000
DTSTAMP:20260422T111752
CREATED:20241219T213756Z
LAST-MODIFIED:20250624T115600Z
UID:10861-1750770000-1750773600@simplicityufc.com
SUMMARY:National Life: Protecting Your Retirement Income with an Annuity
DESCRIPTION:Observe National Annuity Awareness Month by learning more about how annuities can complement your retirement and reduce longevity risk with guaranteed income. Click Here to Register
URL:https://simplicityufc.com/event/national-life-protecting-your-retirement-income-with-an-annuity/
END:VEVENT
END:VCALENDAR