BEGIN:VCALENDAR
VERSION:2.0
PRODID:-//Universal Financial Consultants IMO - ECPv6.15.20//NONSGML v1.0//EN
CALSCALE:GREGORIAN
METHOD:PUBLISH
X-ORIGINAL-URL:https://simplicityufc.com
X-WR-CALDESC:Events for Universal Financial Consultants IMO
REFRESH-INTERVAL;VALUE=DURATION:PT1H
X-Robots-Tag:noindex
X-PUBLISHED-TTL:PT1H
BEGIN:VTIMEZONE
TZID:America/New_York
BEGIN:DAYLIGHT
TZOFFSETFROM:-0500
TZOFFSETTO:-0400
TZNAME:EDT
DTSTART:20240310T070000
END:DAYLIGHT
BEGIN:STANDARD
TZOFFSETFROM:-0400
TZOFFSETTO:-0500
TZNAME:EST
DTSTART:20241103T060000
END:STANDARD
BEGIN:DAYLIGHT
TZOFFSETFROM:-0500
TZOFFSETTO:-0400
TZNAME:EDT
DTSTART:20250309T070000
END:DAYLIGHT
BEGIN:STANDARD
TZOFFSETFROM:-0400
TZOFFSETTO:-0500
TZNAME:EST
DTSTART:20251102T060000
END:STANDARD
BEGIN:DAYLIGHT
TZOFFSETFROM:-0500
TZOFFSETTO:-0400
TZNAME:EDT
DTSTART:20260308T070000
END:DAYLIGHT
BEGIN:STANDARD
TZOFFSETFROM:-0400
TZOFFSETTO:-0500
TZNAME:EST
DTSTART:20261101T060000
END:STANDARD
END:VTIMEZONE
BEGIN:VEVENT
DTSTART;TZID=America/New_York:20250604T130000
DTEND;TZID=America/New_York:20250604T140000
DTSTAMP:20260422T082619
CREATED:20240531T190909Z
LAST-MODIFIED:20250604T085646Z
UID:10060-1749042000-1749045600@simplicityufc.com
SUMMARY:UFC Monthly Seminar Masterclass
DESCRIPTION:First Wednesday of Every Month \nRegister once\, and event should appear as recurring on your calendar. \nRegister Here: https://ufc-bz.zoom.us/webinar/register/WN_ymlvfpkrROuhafka4u5P7A
URL:https://simplicityufc.com/event/ufc-monthly-seminar-masterclass-13/
END:VEVENT
BEGIN:VEVENT
DTSTART;TZID=America/New_York:20250604T150000
DTEND;TZID=America/New_York:20250604T160000
DTSTAMP:20260422T082619
CREATED:20250528T072226Z
LAST-MODIFIED:20250604T085646Z
UID:12745-1749049200-1749052800@simplicityufc.com
SUMMARY:Tom Hegna “Paychecks and Playchecks: Retirement Solutions for Life"
DESCRIPTION:Click Here to Register \nJoin North American as author\, economist\, and industry-icon Tom Hegna presents “Paychecks and Playchecks: Retirement Solutions for Life\,” an informative and engaging presentation focused on one of Americans’ most pressing concerns – guaranteed income in retirement. \nLearn how to help your clients retire with enough guaranteed lifetime income to cover their basic expenses and how to optimize the rest of their portfolio to make sure they receive their “playchecks.”
URL:https://simplicityufc.com/event/tom-hegna-paychecks-and-playchecks-retirement-solutions-for-life/
END:VEVENT
END:VCALENDAR