BEGIN:VCALENDAR
VERSION:2.0
PRODID:-//Universal Financial Consultants IMO - ECPv6.15.20//NONSGML v1.0//EN
CALSCALE:GREGORIAN
METHOD:PUBLISH
X-ORIGINAL-URL:https://simplicityufc.com
X-WR-CALDESC:Events for Universal Financial Consultants IMO
REFRESH-INTERVAL;VALUE=DURATION:PT1H
X-Robots-Tag:noindex
X-PUBLISHED-TTL:PT1H
BEGIN:VTIMEZONE
TZID:America/New_York
BEGIN:DAYLIGHT
TZOFFSETFROM:-0500
TZOFFSETTO:-0400
TZNAME:EDT
DTSTART:20230312T070000
END:DAYLIGHT
BEGIN:STANDARD
TZOFFSETFROM:-0400
TZOFFSETTO:-0500
TZNAME:EST
DTSTART:20231105T060000
END:STANDARD
BEGIN:DAYLIGHT
TZOFFSETFROM:-0500
TZOFFSETTO:-0400
TZNAME:EDT
DTSTART:20240310T070000
END:DAYLIGHT
BEGIN:STANDARD
TZOFFSETFROM:-0400
TZOFFSETTO:-0500
TZNAME:EST
DTSTART:20241103T060000
END:STANDARD
BEGIN:DAYLIGHT
TZOFFSETFROM:-0500
TZOFFSETTO:-0400
TZNAME:EDT
DTSTART:20250309T070000
END:DAYLIGHT
BEGIN:STANDARD
TZOFFSETFROM:-0400
TZOFFSETTO:-0500
TZNAME:EST
DTSTART:20251102T060000
END:STANDARD
END:VTIMEZONE
BEGIN:VEVENT
DTSTART;TZID=America/New_York:20240926T110000
DTEND;TZID=America/New_York:20240926T120000
DTSTAMP:20260425T073903
CREATED:20240911T070708Z
LAST-MODIFIED:20240926T094105Z
UID:10400-1727348400-1727352000@simplicityufc.com
SUMMARY:Athene: Washington Update with UBS
DESCRIPTION:Click Here to Register
URL:https://simplicityufc.com/event/athene-washington-update-with-ubs/
END:VEVENT
BEGIN:VEVENT
DTSTART;TZID=America/New_York:20240926T140000
DTEND;TZID=America/New_York:20240926T150000
DTSTAMP:20260425T073903
CREATED:20240924T092403Z
LAST-MODIFIED:20240926T094105Z
UID:10446-1727359200-1727362800@simplicityufc.com
SUMMARY:Securian: Get to know Securian
DESCRIPTION:Get to know Securian Financial //  Click Here to Register \n\n\nWe don’t recommend you stop working with your best people. We do recommend adding in something fresh — trying something new. \nDo you: \n\nWant ways to diversify clients’ overall retirement strategy?\nHave clients worried about paying for chronic/terminal illness care?\nWant to help clients reduce fees?\nValue working with a highly rated company?\n\nIf the answer is yes to any of these then we invite you to attend a webinar and get to know Securian Financial.
URL:https://simplicityufc.com/event/securian-get-to-know-securian/
END:VEVENT
END:VCALENDAR